BEGIN:VCALENDAR
VERSION:2.0
PRODID:-//Monticello Amiata - ECPv6.15.20//NONSGML v1.0//EN
CALSCALE:GREGORIAN
METHOD:PUBLISH
X-ORIGINAL-URL:https://monticelloamiata.it
X-WR-CALDESC:Eventi per Monticello Amiata
REFRESH-INTERVAL;VALUE=DURATION:PT1H
X-Robots-Tag:noindex
X-PUBLISHED-TTL:PT1H
BEGIN:VTIMEZONE
TZID:Europe/Rome
BEGIN:DAYLIGHT
TZOFFSETFROM:+0100
TZOFFSETTO:+0200
TZNAME:CEST
DTSTART:20170326T010000
END:DAYLIGHT
BEGIN:STANDARD
TZOFFSETFROM:+0200
TZOFFSETTO:+0100
TZNAME:CET
DTSTART:20171029T010000
END:STANDARD
BEGIN:DAYLIGHT
TZOFFSETFROM:+0100
TZOFFSETTO:+0200
TZNAME:CEST
DTSTART:20180325T010000
END:DAYLIGHT
BEGIN:STANDARD
TZOFFSETFROM:+0200
TZOFFSETTO:+0100
TZNAME:CET
DTSTART:20181028T010000
END:STANDARD
BEGIN:DAYLIGHT
TZOFFSETFROM:+0100
TZOFFSETTO:+0200
TZNAME:CEST
DTSTART:20190331T010000
END:DAYLIGHT
BEGIN:STANDARD
TZOFFSETFROM:+0200
TZOFFSETTO:+0100
TZNAME:CET
DTSTART:20191027T010000
END:STANDARD
END:VTIMEZONE
BEGIN:VEVENT
DTSTART;TZID=Europe/Rome:20180422T090000
DTEND;TZID=Europe/Rome:20180422T130000
DTSTAMP:20260422T124808
CREATED:20180420T200004Z
LAST-MODIFIED:20180420T200004Z
UID:283-1524387600-1524402000@monticelloamiata.it
SUMMARY:Il Mercato contadino e delle Autoproduzioni di Genuino Amiatino
DESCRIPTION:Con Domenica 22 Aprile prendono il via i Mercati Contadini e delle Autoproduzioni di Genuino Amiatino. \nSaremo presenti ogni 4° Domenica del mese\, dalle 9.00 alle 13.00\, presso i Giardinetti di Monticello Amiata.\nAl termine del Mercato Pranzo Collettivo. \nDurante la giornata potrete gustare Cibo Biologico\, Naturale e rispettoso delle Stagionalità\, Creazioni Artigianali\, Animazioni per Bambini\, Laboratori\, Mostre\, Musica … \nPer qualunque informazione potete scrivere a genuinoamiatino@autoproduzioni.net. \nIn caso di Pioggia il Mercato si svolgerà nei locali di Genuino Amiatino \nCondividi:\n				Invia un link a un amico via e-mail (Si apre in una nuova finestra)\n				E-mail\n			\n				Stampa (Si apre in una nuova finestra)\n				Stampa\n			\n				Condividi su Facebook (Si apre in una nuova finestra)\n				Facebook\n			\n				Condividi su X (Si apre in una nuova finestra)\n				X
URL:https://monticelloamiata.it/evento/il-mercato-contadino-e-delle-autoproduzioni-di-genuino-amiatino/
CATEGORIES:Mercato contadino di Genuino Amiatino
END:VEVENT
END:VCALENDAR